BEGIN:VCALENDAR
VERSION:2.0
PRODID:-//ChamberMaster//Event Calendar 2.0//EN
METHOD:PUBLISH
X-PUBLISHED-TTL:P3D
REFRESH-INTERVAL:P3D
CALSCALE:GREGORIAN
BEGIN:VEVENT
DTSTART:20180127T230000Z
DTEND:20180128T030000Z
X-MICROSOFT-CDO-ALLDAYEVENT:FALSE
SUMMARY:North Wales Area Library Annual Gala
DESCRIPTION:A Library premier event held each year! Join us for a three course dinner\, dancing\, and gift basket auction. This event is held IN the North Wales Area Library\, so if you are looking for a unique way to spend an evening-enjoying dinner in a public Library\, please join us. Our premier sponsor is Tex-Mex Connection. Tickets are $100 per person. We would be grateful for donations for the gift baskets. Items can be delivered to the Library. All proceeds benefit the North Wales Area Library.
X-ALT-DESC;FMTTYPE=text/html:A Library premier event held each year! Join us for a three course dinner\, dancing\, and gift basket auction. This event is held IN the North Wales Area Library\, so if you are looking for a unique way to spend an evening-enjoying dinner in a public Library\, please join us. Our premier sponsor is Tex-Mex Connection. Tickets are $100 per person. We would be grateful for donations for the gift baskets. Items can be delivered to the Library. All proceeds benefit the North Wales Area Library.
LOCATION:North Wales Area Library 233 South Swartley Street North Wales\, PA 19454
UID:e.2385.2661
SEQUENCE:3
DTSTAMP:20260421T133706Z
URL:https://business.chambergmc.org/events/details/north-wales-area-library-annual-gala-01-27-2018-2661
END:VEVENT

END:VCALENDAR
