BEGIN:VCALENDAR
VERSION:2.0
PRODID:-//ChamberMaster//Event Calendar 2.0//EN
METHOD:PUBLISH
X-PUBLISHED-TTL:P3D
REFRESH-INTERVAL:P3D
CALSCALE:GREGORIAN
BEGIN:VEVENT
DTSTART:20181110T130000Z
DTEND:20181110T190000Z
X-MICROSOFT-CDO-ALLDAYEVENT:FALSE
SUMMARY:Open House at Whole Body Yoga Studio
DESCRIPTION:Come Check us Out! Free Yoga Classes  * Free Mini Lectures * Free Chair Massage * Free Thai Massage\n\nDoors Open At 8 AM\n\n\n\n8:30 Vinyasa Yoga Flow with Christa Lutz\n\n9:30 Learn to make Healthy Smoothies with Nicole  Schillinger\, RD\n\n10:00 Gentle Yoga with Thai Massage with Patty Ferry and Brian Fegley\n\n10:30 Chair Yoga with Nancy Ignatin\n\n11:15 Sun Salutations Basics  with Kelliann Nolen\n\n11:45 Natural Remedies for Digestion Support with Paula Billig\n\n12:00 Yin Yoga with Kelliann Nolen\n\n12:30  What is Hypnosis?  How can it make your life happier? with Tom Laessig\n\n1:00 IRest Meditation with Sarah York\n\n1:15 What is the Pelvic Floor?  What does it do? with Catherine Apicello\n\nRegister online! https://clients.mindbodyonline.com/classic/ws?studioid=20449&stype=-7&sView=day&sLoc=0&date=11/10/18
X-ALT-DESC;FMTTYPE=text/html:Come Check us Out!&nbsp\;Free Yoga Classes&nbsp\; *&nbsp\;Free Mini Lectures *&nbsp\;Free Chair Massage *&nbsp\;Free Thai Massage<br />\nDoors Open At 8 AM<br />\n<br />\n8:30 Vinyasa Yoga Flow with Christa Lutz<br />\n9:30 Learn to make Healthy Smoothies with Nicole&nbsp\; Schillinger\, RD<br />\n10:00 Gentle Yoga with Thai Massage with Patty Ferry and Brian Fegley<br />\n10:30 Chair Yoga with Nancy Ignatin<br />\n11:15 Sun Salutations Basics&nbsp\; with Kelliann Nolen<br />\n11:45 Natural Remedies for Digestion Support with Paula Billig<br />\n12:00 Yin Yoga with Kelliann Nolen<br />\n12:30&nbsp\; What is Hypnosis?&nbsp\; How can it make your life happier? with Tom Laessig<br />\n1:00 IRest Meditation with Sarah York<br />\n1:15 What is the Pelvic Floor?&nbsp\; What does it do? with Catherine Apicello<br />\nRegister online!&nbsp\;<span style="background-color:rgb(245\, 245\, 245)\; color:rgb(51\, 51\, 51)\; font-family:helvetica neue\,helvetica\,lucida grande\,lucida sans unicode\,lucida sans\,arial\,sans-serif\; font-size:13px">https://clients.mindbodyonline.com/classic/ws?studioid=20449&amp\;stype=-7&amp\;sView=day&amp\;sLoc=0&amp\;date=11/10/18</span>
LOCATION:103 E. Walnut St. North Wales\, PA 19454
UID:e.2385.8080
SEQUENCE:3
DTSTAMP:20260422T025442Z
URL:https://business.chambergmc.org/events/details/open-house-at-whole-body-yoga-studio-8080
END:VEVENT

END:VCALENDAR
