BEGIN:VCALENDAR
VERSION:2.0
PRODID:-//ChamberMaster//Event Calendar 2.0//EN
METHOD:PUBLISH
X-PUBLISHED-TTL:P3D
REFRESH-INTERVAL:P3D
CALSCALE:GREGORIAN
BEGIN:VEVENT
DTSTART:20171214T210000Z
DTEND:20171215T010000Z
X-MICROSOFT-CDO-ALLDAYEVENT:FALSE
SUMMARY:OPEN HOUSE AT YOUNG MEDICAL SPA
DESCRIPTION:Take a little time to celebrate\n\nYOU this holiday season\, with\n\nrejuvenating treatments that will\n\nhave you looking picture-perfect\n\nin no time!\n\nAttendees will enjoy:\n\n  Refreshments\n\n  Giveaways\n\n  Savings on all services\n\n  Complimentary consultations\n\nBe prepared to purchase and\n\nsave!\n\nBring a Friend! Meet the Doctors and Staff!\n\n\n\nRSVP @ 215-362-7546
X-ALT-DESC;FMTTYPE=text/html:<br />\nTake a little time to celebrate<br />\nYOU this holiday season\, with<br />\nrejuvenating treatments that will<br />\nhave you looking picture-perfect<br />\nin no time!<br />\nAttendees will enjoy:<br />\n&bull\; Refreshments<br />\n&bull\; Giveaways<br />\n&bull\; Savings on all services<br />\n&bull\; Complimentary consultations<br />\nBe prepared to purchase and<br />\nsave!<br />\nBring a Friend! Meet the Doctors and Staff!<br />\n<br />\nRSVP @ 215-362-7546
LOCATION:635 N Broad Street Lansdale PA 19446
UID:e.2385.2916
SEQUENCE:3
DTSTAMP:20260421T123012Z
URL:https://business.chambergmc.org/events/details/open-house-at-young-medical-spa-12-14-2017-2916
END:VEVENT

END:VCALENDAR
