BEGIN:VCALENDAR
VERSION:2.0
PRODID:-//ChamberMaster//Event Calendar 2.0//EN
METHOD:PUBLISH
X-PUBLISHED-TTL:P3D
REFRESH-INTERVAL:P3D
CALSCALE:GREGORIAN
BEGIN:VEVENT
DTSTART:20190914T120000Z
DTEND:20190914T163000Z
X-MICROSOFT-CDO-ALLDAYEVENT:FALSE
SUMMARY:Open House Free Yoga Classes\, Reflexology and Thai Massage
DESCRIPTION:Join us At Whole Body Yoga Studio! Free Yoga Classes 8:30 AM Vinyasa 10:00 Gentle Yoga With Thai Massage 11:30 Beginner Yoga Basics We are offering Free 10 minute Sessions of Reflexogy\, Thai Massage and Chair Massage starting at 8:15. Register online for yoga classes www.wholebodyyogastudio.com
X-ALT-DESC;FMTTYPE=text/html:Join us At Whole Body Yoga Studio! Free Yoga Classes 8:30 AM Vinyasa 10:00 Gentle Yoga With Thai Massage 11:30 Beginner Yoga Basics We are offering Free 10 minute Sessions of Reflexogy\, Thai Massage and Chair Massage starting at 8:15. Register online for yoga classes www.wholebodyyogastudio.com
LOCATION:103 E. Walnut St. North Wales\, PA 19454
UID:e.2385.10098
SEQUENCE:3
DTSTAMP:20260423T182509Z
URL:https://business.chambergmc.org/events/details/open-house-free-yoga-classes-reflexology-and-thai-massage-10098
END:VEVENT

END:VCALENDAR
