BEGIN:VCALENDAR
VERSION:2.0
PRODID:-//ChamberMaster//Event Calendar 2.0//EN
METHOD:PUBLISH
X-PUBLISHED-TTL:P3D
REFRESH-INTERVAL:P3D
CALSCALE:GREGORIAN
BEGIN:VEVENT
DTSTART:20180215T200000Z
DTEND:20180215T230000Z
X-MICROSOFT-CDO-ALLDAYEVENT:FALSE
SUMMARY:Open House / Pop in for a Free Resume Review\, Job Openings and Popcorn
DESCRIPTION:
X-ALT-DESC;FMTTYPE=text/html:
LOCATION:Monarch Staffing 482 Norristown Rd\, Suite 110\, Blue Bell PA 19422
UID:e.2385.3036
SEQUENCE:3
DTSTAMP:20260421T150713Z
URL:https://business.chambergmc.org/events/details/open-house-pop-in-for-a-free-resume-review-job-openings-and-popcorn-02-15-2018-3036
END:VEVENT

END:VCALENDAR
