BEGIN:VCALENDAR
VERSION:2.0
PRODID:-//ChamberMaster//Event Calendar 2.0//EN
METHOD:PUBLISH
X-PUBLISHED-TTL:P3D
REFRESH-INTERVAL:P3D
CALSCALE:GREGORIAN
BEGIN:VEVENT
DTSTART:20190703T230000Z
DTEND:20190704T020000Z
X-MICROSOFT-CDO-ALLDAYEVENT:FALSE
SUMMARY:Open Mic Night
DESCRIPTION:Calling all Musicians!! ...You've been thinking about\, now come Do It! - Sign ups open at 6pm - 1 Mic\, acoustic guitar and Bose Tower provides - Duos + require own gear ***21 or Older***
X-ALT-DESC;FMTTYPE=text/html:Calling all Musicians!! ...You&rsquo\;ve been thinking about\, now come Do It! - Sign ups open at 6pm - 1 Mic\, acoustic guitar and Bose Tower provides - Duos + require own gear ***21 or Older***
LOCATION:Brothers Kershner Brewing Co.
UID:e.2385.8832
SEQUENCE:3
DTSTAMP:20260422T140750Z
URL:https://business.chambergmc.org/events/details/open-mic-night-07-03-2019-8832
END:VEVENT

END:VCALENDAR
