BEGIN:VCALENDAR
VERSION:2.0
PRODID:-//ChamberMaster//Event Calendar 2.0//EN
METHOD:PUBLISH
X-PUBLISHED-TTL:P3D
REFRESH-INTERVAL:P3D
CALSCALE:GREGORIAN
BEGIN:VEVENT
DTSTART:20190501T230000Z
DTEND:20190502T020000Z
X-MICROSOFT-CDO-ALLDAYEVENT:FALSE
SUMMARY:OPEN MIC NIGHT
DESCRIPTION:Come join us for our first official open mic night at the brewhouse Hosted by the Brothers Kershner! - 1 MIC\, Acoustic and Speaker provided (duos\, trios or more will need own gear) - Sign Ups Start at 6pm - 3 Songs per sign up
X-ALT-DESC;FMTTYPE=text/html:Come join us for our first official open mic night at the brewhouse Hosted by the Brothers Kershner! - 1 MIC\, Acoustic and Speaker provided (duos\, trios or more will need own gear) - Sign Ups Start at 6pm - 3 Songs per sign up
LOCATION:Brothers Kershner Brewing Co. 4119 Skippack Pike Skippack\, Pa 19474
UID:e.2385.8715
SEQUENCE:3
DTSTAMP:20260422T111553Z
URL:https://business.chambergmc.org/events/details/open-mic-night-8715
END:VEVENT

END:VCALENDAR
