BEGIN:VCALENDAR
VERSION:2.0
PRODID:-//ChamberMaster//Event Calendar 2.0//EN
METHOD:PUBLISH
X-PUBLISHED-TTL:P3D
REFRESH-INTERVAL:P3D
CALSCALE:GREGORIAN
BEGIN:VEVENT
DTSTART:20190118T000000Z
DTEND:20190118T020000Z
X-MICROSOFT-CDO-ALLDAYEVENT:FALSE
SUMMARY:Open Mic Poetry Night
DESCRIPTION:An evening of sharing poetry either your own or poems that you enjoy hearing or reading out loud. Artists are also encouraged to come and sketch the audience. Starts at 7:00pm ends at 9:00pm This is a free event.
X-ALT-DESC;FMTTYPE=text/html:An evening of sharing poetry either your own or poems that you enjoy hearing or reading out loud. Artists are also encouraged to come and sketch the audience. Starts at 7:00pm ends at 9:00pm This is a free event.
LOCATION:125 N. Main St.\, North Wales\, PA Entrance and Parking are behind the building
UID:e.2385.8136
SEQUENCE:3
DTSTAMP:20260422T053316Z
URL:https://business.chambergmc.org/events/details/open-mic-poetry-night-8136
END:VEVENT

END:VCALENDAR
