BEGIN:VCALENDAR
VERSION:2.0
PRODID:-//ChamberMaster//Event Calendar 2.0//EN
METHOD:PUBLISH
X-PUBLISHED-TTL:P3D
REFRESH-INTERVAL:P3D
CALSCALE:GREGORIAN
BEGIN:VEVENT
DTSTART:20210720T123000Z
DTEND:20210720T133000Z
X-MICROSOFT-CDO-ALLDAYEVENT:FALSE
SUMMARY:P-TMA webinar presented by MT Business Development Partnership (BDB)
DESCRIPTION:The presentation will cover the programs and services provided by the Partnership TMA which include:   Transportation Demand Management (TDM)   Better Biking in Montco   Travel Options   Public Transit   Electric Vehicles   The Montco Transportation Helpline   Travel Training
X-ALT-DESC;FMTTYPE=text/html:The presentation will cover the programs and services provided by the Partnership TMA which include: &bull\; Transportation Demand Management (TDM) &bull\; Better Biking in Montco &bull\; Travel Options &bull\; Public Transit &bull\; Electric Vehicles &bull\; The Montco Transportation Helpline &bull\; Travel Training
LOCATION:Virtual
UID:e.2385.11114
SEQUENCE:3
DTSTAMP:20260422T140951Z
URL:https://business.chambergmc.org/events/details/p-tma-webinar-presented-by-mt-business-development-partnership-bdb-11114
END:VEVENT

END:VCALENDAR
