BEGIN:VCALENDAR
VERSION:2.0
PRODID:-//ChamberMaster//Event Calendar 2.0//EN
METHOD:PUBLISH
X-PUBLISHED-TTL:P3D
REFRESH-INTERVAL:P3D
CALSCALE:GREGORIAN
BEGIN:VEVENT
DTSTART:20180502T140000Z
DTEND:20180502T150000Z
X-MICROSOFT-CDO-ALLDAYEVENT:FALSE
SUMMARY:PA Medical Marijuana & Business: Trials\, Tribulations & Taxes
DESCRIPTION:The PA Department of Health is tasked with implementing PA's new Medical Marijuana Program. Join us as we take a look at: An overview of the program\; what does this mean to businesses? What HR risks need to be planned for and processes implemented? PA CPA CE credits available for this course!
X-ALT-DESC;FMTTYPE=text/html:The PA Department of Health is tasked with implementing PA&rsquo\;s new Medical Marijuana Program. Join us as we take a look at: An overview of the program\; what does this mean to businesses? What HR risks need to be planned for and processes implemented? PA CPA CE credits available for this course!
LOCATION:GoToMeeting Webinar
UID:e.2385.6639
SEQUENCE:3
DTSTAMP:20260421T191357Z
URL:https://business.chambergmc.org/events/details/pa-medical-marijuana-business-trials-tribulations-taxes-05-02-2018-6639
END:VEVENT

END:VCALENDAR
