BEGIN:VCALENDAR
VERSION:2.0
PRODID:-//ChamberMaster//Event Calendar 2.0//EN
METHOD:PUBLISH
X-PUBLISHED-TTL:P3D
REFRESH-INTERVAL:P3D
CALSCALE:GREGORIAN
BEGIN:VEVENT
DTSTART:20190503T140000Z
DTEND:20190503T160000Z
X-MICROSOFT-CDO-ALLDAYEVENT:FALSE
SUMMARY:Paper Shredding event
DESCRIPTION:SPRING CLEAN UP FRIDAY\, MAY 3rd 10am-12pm Shred your documents and papers safely at Elm Terrace Gardens 660 N Broad Street\, Lansdale\, PA 19446 Parking lot off 7th street The Elm Terrace Gardens team members will be there to answer any questions you might have about Elm Terrace Gardens NO NEED TO RSVP\, just stop by! (FREE & OPEN TO THE PUBLIC)
X-ALT-DESC;FMTTYPE=text/html:SPRING CLEAN UP FRIDAY\, MAY 3rd 10am-12pm Shred your documents and papers safely at Elm Terrace Gardens 660 N Broad Street\, Lansdale\, PA 19446 Parking lot off 7th street The Elm Terrace Gardens team members will be there to answer any questions you might have about Elm Terrace Gardens NO NEED TO RSVP\, just stop by! (FREE &amp\; OPEN TO THE PUBLIC)
LOCATION:660 N Broad Street\, Lansdale\, PA 19446 Parking lot off 7th street
UID:e.2385.8702
SEQUENCE:3
DTSTAMP:20260422T111605Z
URL:https://business.chambergmc.org/events/details/paper-shredding-event-8702
END:VEVENT

END:VCALENDAR
