BEGIN:VCALENDAR
VERSION:2.0
PRODID:-//ChamberMaster//Event Calendar 2.0//EN
METHOD:PUBLISH
X-PUBLISHED-TTL:P3D
REFRESH-INTERVAL:P3D
CALSCALE:GREGORIAN
BEGIN:VEVENT
DTSTART:20190622T210000Z
DTEND:20190623T020000Z
X-MICROSOFT-CDO-ALLDAYEVENT:FALSE
SUMMARY:Parents Night Out
DESCRIPTION:Kids\, join us for a night of games\, crafts\, free play and movies. Each month has a theme that the evening will be based on. Parents\, you are on your own! Dinner with juice or water is included as well as a themed snack each evening. This is a great way for children to socialize with other children outside of a school setting. You must register for each individual date.
X-ALT-DESC;FMTTYPE=text/html:Kids\, join us for a night of games\, crafts\, free play and movies. Each month has a theme that the evening will be based on. Parents\, you are on your own! Dinner with juice or water is included as well as a themed snack each evening. This is a great way for children to socialize with other children outside of a school setting. You must register for each individual date.
LOCATION:Miles Park Building 4021 Joshua Road Lafayette Hill\, PA 19444
UID:e.2385.8800
SEQUENCE:3
DTSTAMP:20260422T140951Z
URL:https://business.chambergmc.org/events/details/parents-night-out-06-22-2019-8800
END:VEVENT

END:VCALENDAR
