BEGIN:VCALENDAR
VERSION:2.0
PRODID:-//ChamberMaster//Event Calendar 2.0//EN
METHOD:PUBLISH
X-PUBLISHED-TTL:P3D
REFRESH-INTERVAL:P3D
CALSCALE:GREGORIAN
BEGIN:VEVENT
DTSTART:20190921T210000Z
DTEND:20190922T020000Z
X-MICROSOFT-CDO-ALLDAYEVENT:FALSE
SUMMARY:Parents Night Out
DESCRIPTION:Parents! Need a night out for yourselves? Parents Night Out offers children ages 3-11 a fun filled evening with games\, movies\, a pizza dinner\, and more! Our trained staff will supervise children and facilitate age appropriate activities for children to social outside of the school setting. Parents Night Out runs 5:00-10:00PM on select Saturdays\, cost is only $20 per child ($23 Non-Resident). Registration is required   call our office at 610-828-7276 or visit our website at www.whitemarshparks.org
X-ALT-DESC;FMTTYPE=text/html:Parents! Need a night out for yourselves? Parents Night Out offers children ages 3-11 a fun filled evening with games\, movies\, a pizza dinner\, and more! Our trained staff will supervise children and facilitate age appropriate activities for children to social outside of the school setting. Parents Night Out runs 5:00-10:00PM on select Saturdays\, cost is only $20 per child ($23 Non-Resident). Registration is required &ndash\; call our office at 610-828-7276 or visit our website at www.whitemarshparks.org
LOCATION:Parks and Recreation building at Miles Park 4021 Joshua Road Lafayette Hill\, PA 19444
UID:e.2385.10071
SEQUENCE:3
DTSTAMP:20260423T182333Z
URL:https://business.chambergmc.org/events/details/parents-night-out-09-21-2019-10071
END:VEVENT

END:VCALENDAR
