BEGIN:VCALENDAR
VERSION:2.0
PRODID:-//ChamberMaster//Event Calendar 2.0//EN
METHOD:PUBLISH
X-PUBLISHED-TTL:P3D
REFRESH-INTERVAL:P3D
CALSCALE:GREGORIAN
BEGIN:VEVENT
DTSTART:20181020T210000Z
DTEND:20181021T020000Z
X-MICROSOFT-CDO-ALLDAYEVENT:FALSE
SUMMARY:Parents Night Out - October
DESCRIPTION:Parent's Night Out October 20th 5:00PM Looking for a Saturday night out while the kids are having fun in a safe environment? Mark your calendars for the next Parent's Night Out program on Saturday\, October 20th from 5:00 P.M. - 10:00 P.M. Children will be provided with games\, crafts\, free play\, movies\, dinner and snacks! The fee for Whitemarsh Township Residents per child (3-11 years old) is $20.00 and Non-Residents $23.00. Where can you find a babysitter for that price for FIVE HOURS?!?! Call 610-828-7276 or register online at www.whitemarshparks.org. PRE-REGISTRATION IS REQUIRED: www.whitemarshparks.org
X-ALT-DESC;FMTTYPE=text/html:Parent&#39\;s Night Out October 20th 5:00PM Looking for a Saturday night out while the kids are having fun in a safe environment? Mark your calendars for the next Parent&#39\;s Night Out program on Saturday\, October 20th from 5:00 P.M. - 10:00 P.M. Children will be provided with games\, crafts\, free play\, movies\, dinner and snacks! The fee for Whitemarsh Township Residents per child (3-11 years old) is $20.00 and Non-Residents $23.00. Where can you find a babysitter for that price for FIVE HOURS?!?! Call 610-828-7276 or register online at www.whitemarshparks.org. PRE-REGISTRATION IS REQUIRED: www.whitemarshparks.org
LOCATION:Parks and Recreation Building at Miles Park 4021 Joshua Road Lafayette Hill\, PA 19444
UID:e.2385.8052
SEQUENCE:3
DTSTAMP:20260422T014246Z
URL:https://business.chambergmc.org/events/details/parents-night-out-october-8052
END:VEVENT

END:VCALENDAR
