BEGIN:VCALENDAR
VERSION:2.0
PRODID:-//ChamberMaster//Event Calendar 2.0//EN
METHOD:PUBLISH
X-PUBLISHED-TTL:P3D
REFRESH-INTERVAL:P3D
CALSCALE:GREGORIAN
BEGIN:VEVENT
DTSTART:20190314T203000Z
DTEND:20190314T220000Z
X-MICROSOFT-CDO-ALLDAYEVENT:FALSE
SUMMARY:Paying for the Ongoing Cost of Care!
DESCRIPTION:As part of our ongoing series of Educational discussions that addresses Paying for Care of a Loved One\, please join us with Families of current and future Residents of Brandywine Living - Dresher Estates at this upcoming seminar. We are experts in the most effective methods to pay for current care needs\, capping care expenses and protecting family assets. We guarantee you will learn something new related to your Loved Ones care journey.
X-ALT-DESC;FMTTYPE=text/html:<span style="background-color:rgb(255\, 255\, 255)\; color:rgb(51\, 51\, 51)\; font-family:arial\,helvetica\,sans-serif\; font-size:10pt">As part of our ongoing series of Educational discussions that addresses Paying for Care of a Loved One\, please join us with Families of current and future Residents of Brandywine Living - Dresher Estates at this upcoming seminar. We</span><span style="background-color:rgb(255\, 255\, 255)\; color:rgb(35\, 31\, 32)\; font-family:arial\,helvetica\,sans-serif\; font-size:13px"><span style="font-size:10pt">&nbsp\;are experts in the most eff</span></span><span style="background-color:rgb(255\, 255\, 255)\; color:rgb(51\, 51\, 51)\; font-family:arial\,helvetica\,sans-serif\; font-size:10pt">ective methods to pay for current care needs\, capping care expenses and</span><span style="background-color:rgb(255\, 255\, 255)\; color:rgb(35\, 31\, 32)\; font-family:arial\,helvetica\,sans-serif\; font-size:13px"><span style="font-size:10pt">&nbsp\;protecting family assets. We</span></span><span style="background-color:rgb(255\, 255\, 255)\; color:rgb(51\, 51\, 51)\; font-family:arial\,helvetica\,sans-serif\; font-size:10pt">&nbsp\;guarantee you will learn something new related to your Loved Ones care journey.</span>
LOCATION:Brandywine Living at Dresher Estates 1405 Limekiln Pike Dresher\, PA 19025
UID:e.2385.8642
SEQUENCE:3
DTSTAMP:20260422T083129Z
URL:https://business.chambergmc.org/events/details/paying-for-the-ongoing-cost-of-care-03-14-2019-8642
END:VEVENT

END:VCALENDAR
