BEGIN:VCALENDAR
VERSION:2.0
PRODID:-//ChamberMaster//Event Calendar 2.0//EN
METHOD:PUBLISH
X-PUBLISHED-TTL:P3D
REFRESH-INTERVAL:P3D
CALSCALE:GREGORIAN
BEGIN:VEVENT
DTSTART:20190307T220000Z
DTEND:20190308T000000Z
X-MICROSOFT-CDO-ALLDAYEVENT:FALSE
SUMMARY:Paying for the Ongoing Cost of Care!
DESCRIPTION:As part of our ongoing series of Educational discussions that addresses Paying for Care of a Loved One\, please join us with Families of current and future Residents of Brightview East Norriton at this upcoming seminar. We are experts in the most effective methods to pay for current care needs\, capping care expenses and protecting family assets. We guarantee you will learn something new related to your Loved Ones care journey.
X-ALT-DESC;FMTTYPE=text/html:<span style="font-family:arial\,helvetica\,sans-serif"><span style="font-size:10.0pt">As part of our ongoing series of Educational discussions that addresses Paying for Care of a Loved One\, please join us with Families of current and future Residents of Brightview East Norriton at this upcoming seminar. We</span><span style="color:#231F20"><span style="font-size:10.0pt">&nbsp\;are experts in the most eff</span></span><span style="font-size:10.0pt">ective methods to pay for current care needs\, capping care expenses and</span><span style="color:#231F20"><span style="font-size:10.0pt"> protecting family assets. We</span></span><span style="font-size:10.0pt">&nbsp\;guarantee you will learn something new related to your Loved Ones care journey.</span></span>
LOCATION:Brightview East Norriton 300 East Germantown Pike East Norriton. PA 19401
UID:e.2385.8641
SEQUENCE:3
DTSTAMP:20260422T094823Z
URL:https://business.chambergmc.org/events/details/paying-for-the-ongoing-cost-of-care-8641
END:VEVENT

END:VCALENDAR
