BEGIN:VCALENDAR
VERSION:2.0
PRODID:-//ChamberMaster//Event Calendar 2.0//EN
METHOD:PUBLISH
X-PUBLISHED-TTL:P3D
REFRESH-INTERVAL:P3D
CALSCALE:GREGORIAN
BEGIN:VEVENT
DTSTART:20180613T213000Z
DTEND:20180613T233000Z
X-MICROSOFT-CDO-ALLDAYEVENT:FALSE
SUMMARY:Pets R People Too
DESCRIPTION:A networking event to support Manna on Main Street and its Florence Nightingale Challenge. To raise funds and awareness of food insecurity in our Community with the "twist" of speaking to the needs of pets and pet adoptions. In addition\, local business will participate proving refreshments and services information to guests. Donations of Pet Food and funds encouraged for both Manna on Main Street and the Lansdale Mural Arts Program.
X-ALT-DESC;FMTTYPE=text/html:A networking event to support Manna on Main Street and its Florence Nightingale Challenge. To raise funds and awareness of food insecurity in our Community with the &quot\;twist&quot\; of speaking to the needs of pets and pet adoptions. In addition\, local business will participate proving refreshments and services information to guests. Donations of Pet Food and funds encouraged for both Manna on Main Street and the Lansdale Mural Arts Program.
LOCATION:Lansdale Business Center 650 North Cannon Avenue Between 5th & 7th Streets Lansdale\, PA 19446
UID:e.2385.6665
SEQUENCE:3
DTSTAMP:20260421T201730Z
URL:https://business.chambergmc.org/events/details/pets-r-people-too-6665
END:VEVENT

END:VCALENDAR
