BEGIN:VCALENDAR
VERSION:2.0
PRODID:-//ChamberMaster//Event Calendar 2.0//EN
METHOD:PUBLISH
X-PUBLISHED-TTL:P3D
REFRESH-INTERVAL:P3D
CALSCALE:GREGORIAN
BEGIN:VEVENT
DTSTART:20180518T223000Z
DTEND:20180519T011500Z
X-MICROSOFT-CDO-ALLDAYEVENT:FALSE
SUMMARY:Philly Nights and Lights Benefit for Domestic Violence
DESCRIPTION:Fundraiser in support of our domestic violence program featuring icnoic Philadelphia traditions:  Classic "Philly" food stations\; Philly themed Silent Auctions and Raffle Packages\;  Philly Mascots\, Complimentary event signature drink - 'Spirits of Philadelphia'.  Presentation of awards to PA. State Representative Todd Stephens\, Abington Friends School\, and\, in memoriam\, to Sheriff John Durante\, presented to his daughter Deanna Durante of NBC10 News.
X-ALT-DESC;FMTTYPE=text/html:<span style="font-family:high tower text\,serif">Fundraiser in support of our domestic violence program featuring icnoic Philadelphia traditions:&nbsp\;&nbsp\;Classic &ldquo\;Philly&rdquo\; food stations\;&nbsp\;</span><span style="font-family:high tower text\,serif">Philly themed Silent Auctions and Raffle Packages\;&nbsp\;&nbsp\;</span><span style="font-family:high tower text\,serif">Philly Mascots\,&nbsp\;</span><span style="font-family:high tower text\,serif">Complimentary event signature drink - &#39\;Spirits of Philadelphia&#39\;.&nbsp\; Presentation of awards to PA. State Representative Todd Stephens\, Abington Friends School\, and\, in memoriam\, to Sheriff John Durante\, presented to his daughter Deanna Durante of NBC10 News.</span><br />\n<br />\n&nbsp\;
LOCATION:Manufacturers Golf & Country Club 511 Dreshertown Rd Ft. Washington\, PA
UID:e.2385.6670
SEQUENCE:3
DTSTAMP:20260421T190547Z
URL:https://business.chambergmc.org/events/details/philly-nights-and-lights-benefit-for-domestic-violence-6670
END:VEVENT

END:VCALENDAR
