BEGIN:VCALENDAR
VERSION:2.0
PRODID:-//ChamberMaster//Event Calendar 2.0//EN
METHOD:PUBLISH
X-PUBLISHED-TTL:P3D
REFRESH-INTERVAL:P3D
CALSCALE:GREGORIAN
BEGIN:VEVENT
DTSTART:20180807T220000Z
DTEND:20180808T000000Z
X-MICROSOFT-CDO-ALLDAYEVENT:FALSE
SUMMARY:Floral & Hardy Plant Sale & Garden Tour
DESCRIPTION:Join us again for a FREE tour of Penn State Master Gardener\, Thom Mrazik's lovely gardens in Worcester\, PA. You'll see 185 plants and tour 10+ gardens! Thom's gardens have been certified "Pollinator Friendly" by Penn State. Thom has a horticultural certificate from the Barnes Arboretum and participates in the annual PHS garden contest. Meet us at F&H at 6:00 p.m. and we'll carpool to Thom's house. Our caravan will leave promptly at 6:20 p.m. \n\n\n\nNote: there will be a BIG PLANT SALE for all tour attendees at 5:30 p.m. Stay tuned for details.\n\nPlease RSVP: http://floralandhardyofskippack.com/events/286/plant-sale-garden-tour/
X-ALT-DESC;FMTTYPE=text/html:<p style="margin-left:0px\; margin-right:0px\; text-align:justify"><span style="font-family:arial\,helvetica\,sans-serif">Join us again for a FREE tour of Penn State Master Gardener\, Thom Mrazik&rsquo\;s lovely gardens in Worcester\, PA. You&rsquo\;ll see 185 plants and tour 10+ gardens! Thom&rsquo\;s gardens have been certified &ldquo\;Pollinator Friendly&rdquo\; by Penn State. Thom has a horticultural certificate from the Barnes Arboretum and participates in the annual PHS garden contest. Meet us at F&amp\;H at 6:00 p.m. and we&rsquo\;ll carpool to Thom&rsquo\;s house. Our caravan will leave promptly at 6:20 p.m. </span><br />\n<br />\n<span style="color:rgb(255\, 0\, 0)\; font-family:arial\,helvetica\,sans-serif">Note: there will be a BIG PLANT SALE for all tour attendees at 5:30 p.m. Stay tuned for details.</span></p>\n\n<p style="margin-left:0px\; margin-right:0px\; text-align:justify"><span style="color:rgb(255\, 0\, 0)\; font-family:arial\,helvetica\,sans-serif">Please RSVP:&nbsp\;<a href="http://floralandhardyofskippack.com/events/286/plant-sale-garden-tour/">http://floralandhardyofskippack.com/events/286/plant-sale-garden-tour/</a></span></p>\n
LOCATION:Floral & Hardy 4007 Skippack Pike Skippack\, PA 19474
UID:e.2385.7869
SEQUENCE:3
DTSTAMP:20260421T232038Z
URL:https://business.chambergmc.org/events/details/plant-sale-garden-tour-7869
END:VEVENT

END:VCALENDAR
