BEGIN:VCALENDAR
VERSION:2.0
PRODID:-//ChamberMaster//Event Calendar 2.0//EN
METHOD:PUBLISH
X-PUBLISHED-TTL:P3D
REFRESH-INTERVAL:P3D
CALSCALE:GREGORIAN
BEGIN:VEVENT
DTSTART:20191214T160000Z
DTEND:20191214T190000Z
X-MICROSOFT-CDO-ALLDAYEVENT:FALSE
SUMMARY:Polk Audio Legend Workshop
DESCRIPTION:Be one of the first to experience the best speakers Polk has ever made. Join us and our friends from Polk Audio at our Montgomeryville Showroom for a special unveiling of their brand new Legend Series. For the first time in nearly 25 years\, Polk is introducing a new SDA speaker   the Polk Legend L800. The Legend L800 floorstanding speaker features new patents that build on the original SDA mission of maintaining full stereo separation all the way from the source to your ears. As a result\, L800 renders the most lifelike detailed\, stereo imaging you have ever heard from Polk. The speakers seem to disappear as the sonic images fill your listening room with startling realism. Representatives from Polk will take you through a series of listening sessions on the L800 floorstanding tower speakers and their L100 premium bookshelf speakers. Learn about their ground-up approach to engineering the finest loudspeakers they've ever made and hear the difference of Polk SDA PRO technology.
X-ALT-DESC;FMTTYPE=text/html:Be one of the first to experience the best speakers Polk has ever made. Join us and our friends from Polk Audio at our Montgomeryville Showroom for a special unveiling of their brand new Legend Series. For the first time in nearly 25 years\, Polk is introducing a new SDA speaker &ndash\; the Polk Legend L800. The Legend L800 floorstanding speaker features new patents that build on the original SDA mission of maintaining full stereo separation all the way from the source to your ears. As a result\, L800 renders the most lifelike detailed\, stereo imaging you have ever heard from Polk. The speakers seem to disappear as the sonic images fill your listening room with startling realism. Representatives from Polk will take you through a series of listening sessions on the L800 floorstanding tower speakers and their L100 premium bookshelf speakers. Learn about their ground-up approach to engineering the finest loudspeakers they&#39\;ve ever made and hear the difference of Polk SDA PRO technology.
LOCATION:754 Route 309 (Bethlehem Pike)\, Montgomeryville\, PA 18936
UID:e.2385.10188
SEQUENCE:3
DTSTAMP:20260423T144657Z
URL:https://business.chambergmc.org/events/details/polk-audio-legend-workshop-10188
END:VEVENT

END:VCALENDAR
