BEGIN:VCALENDAR
VERSION:2.0
PRODID:-//ChamberMaster//Event Calendar 2.0//EN
METHOD:PUBLISH
X-PUBLISHED-TTL:P3D
REFRESH-INTERVAL:P3D
CALSCALE:GREGORIAN
BEGIN:VEVENT
DTSTART:20181013T140000Z
DTEND:20181013T150000Z
X-MICROSOFT-CDO-ALLDAYEVENT:FALSE
SUMMARY:Floral & Hardy - Prepping Your Gardens for Winter
DESCRIPTION:Join us for this FREE wine & cheese class to learn everything you need to know about putting your gardens to bed for the winter.  We'll give you tips about garden clean up and prepping your gardens for the colder months.  Learn about how to help your plants survive harsher winter conditions.  The instructor for this class is Penn State Master Gardener\, Joan Kober.\nPlease RSVP: http://floralandhardyofskippack.com/events/290/prepping-your-gardens-for-winter/
X-ALT-DESC;FMTTYPE=text/html:<span style="background-color:transparent\; color:rgb(0\, 0\, 0)\; font-family:arial\,helvetica\,sans-serif\; font-size:13px">Join us for this FREE wine &amp\; cheese class to learn everything you need to know about putting your gardens to bed for the winter.&nbsp\; We&rsquo\;ll give you tips about garden clean up and prepping your gardens for the colder months.&nbsp\; Learn about how to help your plants survive harsher winter conditions.&nbsp\; The instructor for this class is Penn State Master Gardener\, Joan Kober.</span>\n<div><span style="background-color:transparent\; color:rgb(0\, 0\, 0)\; font-family:arial\,helvetica\,sans-serif\; font-size:13px">Please RSVP:&nbsp\;<a href="http://floralandhardyofskippack.com/events/290/prepping-your-gardens-for-winter/">http://floralandhardyofskippack.com/events/290/prepping-your-gardens-for-winter/</a></span></div>\n
LOCATION:Floral & Hardy 4007 Skippack Pike Skippack\, PA 19474
UID:e.2385.7987
SEQUENCE:3
DTSTAMP:20260422T013723Z
URL:https://business.chambergmc.org/events/details/prepping-your-gardens-for-winter-7987
END:VEVENT

END:VCALENDAR
