BEGIN:VCALENDAR
VERSION:2.0
PRODID:-//ChamberMaster//Event Calendar 2.0//EN
METHOD:PUBLISH
X-PUBLISHED-TTL:P3D
REFRESH-INTERVAL:P3D
CALSCALE:GREGORIAN
BEGIN:VEVENT
DTSTART:20190501T114500Z
DTEND:20190501T130000Z
X-MICROSOFT-CDO-ALLDAYEVENT:FALSE
SUMMARY:Promise and Possibility: Employees on the Spectrum
DESCRIPTION:Please join us for an Informational Breakfast\n\nSAP's Autism at Work Initiative has brought this previously untapped talent pool to the workplace through a systematic process of talent identification\, support and training.\n\nSAP is headquartered in Walldorf\, Germany\, with regional offices in 130 countries. The company has over 345\,000 customers in 190 countries\, is the 3rd largest independent software manufacturer in the world and employs over 84\,000 people.\n\nThe employee ?because of and in spite of Autism? possess unique abilities such as:\n\n	Resiliency\, Resourcefulness\, and an intense desire to work\n	Transparent and Unambiguous Communications\n	Ability to see patterns\, spot deviations in systems and data\n	Attention to details. Perseverance over long periods of time.\n	High diligence and low tolerance for mistakes.\n\nOn May 1st SAP will join us\, along with resource specialists from our community to share our learning and ways to ensure the success of this remarkable employee.    \n\n \n\n \n\nRSVP by April 26th \n\ncradcliff@soudertonsd.org   or   215-723-2808 ext. 20032
X-ALT-DESC;FMTTYPE=text/html:<span style="font-size:16px\;"><strong><em>Please join us for an Informational Breakfast</em></strong></span><br />\n<span style="font-family:cambria\,serif\;"><span style="font-size:12.0pt\;">SAP&#39\;s Autism at Work Initiative has brought this previously untapped talent pool to the workplace through a systematic process of talent identification\, support and training.<br />\nSAP is headquartered in Walldorf\, Germany\, with regional offices in 130 countries. The company has over 345\,000 customers in 190 countries\, is the 3<sup>rd</sup> largest independent software manufacturer in the world and employs over 84\,000 people.</span></span><br />\n<span style="font-family:cambria\,serif\;"><span style="font-size:12.0pt\;">The employee ?because of and in spite of Autism? possess unique abilities such as:</span></span>\n<ul>\n	<li><span style="font-family:cambria\,serif\;"><span style="font-size:12.0pt\;">Resiliency\, Resourcefulness\, and an intense desire to work</span></span></li>\n	<li><span style="font-family:cambria\,serif\;"><span style="font-size:12.0pt\;">Transparent and Unambiguous Communications</span></span></li>\n	<li><span style="font-family:cambria\,serif\;"><span style="font-size:12.0pt\;">Ability to see patterns\, spot deviations in systems and data</span></span></li>\n	<li><span style="font-family:cambria\,serif\;"><span style="font-size:12.0pt\;">Attention to details. Perseverance over long periods of time.</span></span></li>\n	<li><span style="font-family:cambria\,serif\;"><span style="font-size:12.0pt\;">High diligence and low tolerance for mistakes.</span></span></li>\n</ul>\n<span style="font-family:cambria\,serif\;"><span style="font-size:12.0pt\;">On May 1<sup>st</sup> SAP will join us\, along with resource specialists from our community to share our learning and ways to ensure the success of this remarkable employee.&nbsp\;&nbsp\;&nbsp\; </span></span><br />\n&nbsp\;<br />\n&nbsp\;<br />\n<span style="font-size:18px\;"><strong><span style="font-family:cambria\,serif\;">RSVP by April 26<sup>th</sup> </span></strong></span><br />\n<span style="font-family:cambria\,serif\;"><span style="font-size:14.0pt\;"><a href="http://cradcliff@soudertonsd.org">cradcliff@soudertonsd.org</a> &nbsp\;&nbsp\;or&nbsp\;&nbsp\; 215-723-2808 ext. 20032</span></span>
LOCATION:Souderton Area High School Library 625 Lower Road Souderton\, PA 18964
UID:e.2385.8684
SEQUENCE:3
DTSTAMP:20260422T112159Z
URL:https://business.chambergmc.org/events/details/promise-and-possibility-employees-on-the-spectrum-8684
END:VEVENT

END:VCALENDAR
