BEGIN:VCALENDAR
VERSION:2.0
PRODID:-//ChamberMaster//Event Calendar 2.0//EN
METHOD:PUBLISH
X-PUBLISHED-TTL:P3D
REFRESH-INTERVAL:P3D
CALSCALE:GREGORIAN
BEGIN:VEVENT
DTSTART:20190404T223000Z
DTEND:20190404T233000Z
X-MICROSOFT-CDO-ALLDAYEVENT:FALSE
SUMMARY:Floral & Hardy Proper Care\, Healthy Trees
DESCRIPTION:Join us for this FREE wine and cheese class where we'll talk about how to plant\, mulch and prune trees.  Healthy trees are a focal point of enjoyable gardens\, providing beauty and support for wildlife.  Learn valuable tips about properly planting and mulching young trees\, as well as basic pruning steps to help maintain their health and beauty.  Presentation will be given by Penn State Extension Master Gardener\, Thom Mrazik.  \n\n\nPlease RSVP: \n\nhttp://floralandhardyofskippack.com/events/proper-care-healthy-trees/
X-ALT-DESC;FMTTYPE=text/html:<div style="text-align:justify"><span style="background-color:transparent\; color:rgb(0\, 0\, 0)\; font-family:arial\,helvetica\,sans-serif\; font-size:13px">Join us for this FREE wine and cheese class where we&rsquo\;ll talk about how to plant\, mulch and prune trees.&nbsp\; Healthy trees are a focal point of enjoyable </span><span style="background-color:transparent\; color:rgb(0\, 0\, 0)\; font-family:arial\,helvetica\,sans-serif\; font-size:13px">gardens</span><span style="background-color:transparent\; color:rgb(0\, 0\, 0)\; font-family:arial\,helvetica\,sans-serif\; font-size:13px">\, providing beauty and support for wildlife.&nbsp\; Learn valuable tips about properly planting and mulching young trees\, as well as basic pruning steps to help maintain their health and beauty.&nbsp\; Presentation will be given by Penn State Extension Master Gardener\, Thom Mrazik.&nbsp\; </span></div>\n<br />\n<span style="background-color:transparent\; color:rgb(0\, 0\, 0)\; font-family:arial\,helvetica\,sans-serif\; font-size:13px">Please RSVP:&nbsp\;<br />\n<a href="http://floralandhardyofskippack.com/events/proper-care-healthy-trees/">http://floralandhardyofskippack.com/events/proper-care-healthy-trees/</a></span>
LOCATION:Floral & Hardy 4007 Skippack Pike Skippack\, PA 19474
UID:e.2385.8199
SEQUENCE:3
DTSTAMP:20260422T094354Z
URL:https://business.chambergmc.org/events/details/proper-care-healthy-trees-8199
END:VEVENT

END:VCALENDAR
