BEGIN:VCALENDAR
VERSION:2.0
PRODID:-//ChamberMaster//Event Calendar 2.0//EN
METHOD:PUBLISH
X-PUBLISHED-TTL:P3D
REFRESH-INTERVAL:P3D
CALSCALE:GREGORIAN
BEGIN:VEVENT
DTSTART:20200604T170000Z
DTEND:20200604T180000Z
X-MICROSOFT-CDO-ALLDAYEVENT:FALSE
SUMMARY:Q&A Forum Endurance in Grief: Supporting your Organization through COVID-19 Losses & Restoration Efforts
DESCRIPTION:Q&A Forum hosted by The Center for Loss and Bereavement\n\nEndurance in Grief: Supporting your Organization through COVID-19 Losses and\n\nRestoration Efforts\n\n\nNew experiences with loss of all kinds are vastly affecting our ability to function as individuals and organizational teams during this public health crisis. As grief in the workplace presents new emotions\, anxieties and hurdles in managing daily operations\, we are offering our experience and knowledge to support frontline business and agency leaders in our community.\n\n\n\nWe welcome you to join us for an interactive discussion to process these stressors so that you can continue to capitalize on your organization's strengths during this time of uncertainty.\n\n\n\nTO REGISTER: Please contact Ashley Herr at amh@bereavementcenter.org or 610-222-4110 x123
X-ALT-DESC;FMTTYPE=text/html:<div style="text-align:center"><span style="font-size:16px"><strong><span style="font-size:18px">Q&amp\;A Forum hosted by The Center for Loss and Bereavement</span></strong></span></div>\n\n<div style="text-align:center"><span style="font-size:16px">Endurance in Grief: Supporting your Organization through COVID-19 Losses and<br />\nRestoration Efforts</span></div>\n<br />\nNew experiences with loss of all kinds are vastly affecting our ability to function as individuals and organizational teams during this public health crisis. As grief in the workplace presents new emotions\, anxieties and hurdles in managing daily operations\, we are offering our experience and knowledge to support frontline business and agency leaders in our community.<br />\n<br />\nWe welcome you to join us for an interactive discussion to process these stressors so that you can continue to capitalize on your organization&rsquo\;s strengths during this time of uncertainty.<br />\n<br />\n<strong>TO REGISTER</strong>: Please contact Ashley Herr at <u>amh@bereavementcenter.org</u> or 610-222-4110 x123<br />\n&nbsp\;
LOCATION:Please register to receive Zoom link to access the forum.
UID:e.2385.10373
SEQUENCE:3
DTSTAMP:20260423T071811Z
URL:https://business.chambergmc.org/events/details/q-a-forum-endurance-in-grief-supporting-your-organization-through-covid-19-losses-restoration-efforts-10373
END:VEVENT

END:VCALENDAR
