BEGIN:VCALENDAR
VERSION:2.0
PRODID:-//ChamberMaster//Event Calendar 2.0//EN
METHOD:PUBLISH
X-PUBLISHED-TTL:P3D
REFRESH-INTERVAL:P3D
CALSCALE:GREGORIAN
BEGIN:VEVENT
DTSTART:20160201T170000Z
DTEND:20160216T200000Z
X-MICROSOFT-CDO-ALLDAYEVENT:FALSE
SUMMARY:Quarts for a Cause
DESCRIPTION:Hidden Meadows on the Ridge will be having a Soup Fundraiser during the months of February and March to raise funds for the Alzheimer's Association. Soups will come in quart containers and can be purchased for only $5.00 per quart! All proceeds will be donated to Alzheimer's Association. February 2016 Featured Soup: Hidden Meadows Homemade Chicken Noodle Order your soup by 3:00pm Tuesday\, February 16\, 2016 Your order will be available for pick up Wednesday\, February 17\, 2016 from 1:00 pm-5:00pm
X-ALT-DESC;FMTTYPE=text/html:Hidden Meadows on the Ridge will be having a Soup Fundraiser during the months of February and March to raise funds for the Alzheimer&#39\;s Association. Soups will come in quart containers and can be purchased for only $5.00 per quart! All proceeds will be donated to Alzheimer&#39\;s Association. February 2016 Featured Soup: Hidden Meadows Homemade Chicken Noodle Order your soup by 3:00pm Tuesday\, February 16\, 2016 Your order will be available for pick up Wednesday\, February 17\, 2016 from 1:00 pm-5:00pm
LOCATION:Hidden Meadows on the Ridge: 340 Farmers Lane Sellersville\, PA 18960
UID:e.2385.1489
SEQUENCE:3
DTSTAMP:20260421T094610Z
URL:https://business.chambergmc.org/events/details/quarts-for-a-cause-02-01-2016-1489
END:VEVENT

END:VCALENDAR
