BEGIN:VCALENDAR
VERSION:2.0
PRODID:-//ChamberMaster//Event Calendar 2.0//EN
METHOD:PUBLISH
X-PUBLISHED-TTL:P3D
REFRESH-INTERVAL:P3D
CALSCALE:GREGORIAN
BEGIN:VEVENT
DTSTART:20160301T140000Z
DTEND:20160315T190000Z
X-MICROSOFT-CDO-ALLDAYEVENT:FALSE
SUMMARY:Quarts for a Cause
DESCRIPTION:Hidden Meadows on the Ridge will be having a Soup Fundraiser during the months of February and March to raise funds for the Alzheimer's Association. Soups will come in Quart containers and can be purchased for only $5.00 per quart! All Proceeds Will Be Donated To The Alzheimer's Association. March 2016 Featured Soup: Loaded Baked Potato Order your soup by: 3:00pm March 15th\, 2016 Your order will be available for pickup on Wednesday\, March 16\, 2016 from 1:00pm to 5:00pm!
X-ALT-DESC;FMTTYPE=text/html:Hidden Meadows on the Ridge will be having a Soup Fundraiser during the months of February and March to raise funds for the Alzheimer&#39\;s Association. Soups will come in Quart containers and can be purchased for only $5.00 per quart! All Proceeds Will Be Donated To The Alzheimer&#39\;s Association. March 2016 Featured Soup: Loaded Baked Potato Order your soup by: 3:00pm March 15th\, 2016 Your order will be available for pickup on Wednesday\, March 16\, 2016 from 1:00pm to 5:00pm!
LOCATION:Hidden Meadows on the Ridge 340 Farmers Lane Sellersville\, PA 18960
UID:e.2385.1523
SEQUENCE:3
DTSTAMP:20260421T122215Z
URL:https://business.chambergmc.org/events/details/quarts-for-a-cause-03-01-2016-1523
END:VEVENT

END:VCALENDAR
