BEGIN:VCALENDAR
VERSION:2.0
PRODID:-//ChamberMaster//Event Calendar 2.0//EN
METHOD:PUBLISH
X-PUBLISHED-TTL:P3D
REFRESH-INTERVAL:P3D
CALSCALE:GREGORIAN
BEGIN:VEVENT
DTSTART:20241020T130000Z
DTEND:20241020T140000Z
X-MICROSOFT-CDO-ALLDAYEVENT:FALSE
SUMMARY:Race to Reimagine 5K Run/1 Mile Walk
DESCRIPTION:Join the Abington Health Foundation Women's Board for the Race to Reimagine on our certified course\, starting and finishing at the Sidney Kimmel Comprehensive Cancer Center - Asplundh Cancer Pavilion in Willow Grove\, PA! Runners and walkers are welcome and all proceeds from the race will support the center. We believe no one should ever face a cancer diagnosis alone. Certified course. Team are encouraged. There will be awards presented for the 5K top finisher in male and female age groups as well as male and female top three overall finishers. Fun for the Whole Family: Friends\, family\, kids\, and friendly pets welcome! Face painting\, cotton candy\, and raffle basket drawings\, DJ\, great snacks and plenty of fun!
X-ALT-DESC;FMTTYPE=text/html:Join the Abington Health Foundation Women&#39\;s Board for the Race to Reimagine on our certified course\, starting and finishing at the Sidney Kimmel Comprehensive Cancer Center - Asplundh Cancer Pavilion in Willow Grove\, PA! Runners and walkers are welcome and all proceeds from the race will support the center. We believe no one should ever face a cancer diagnosis alone. Certified course. Team are encouraged. There will be awards presented for the 5K top finisher in male and female age groups as well as male and female top three overall finishers. Fun for the Whole Family: Friends\, family\, kids\, and friendly pets welcome! Face painting\, cotton candy\, and raffle basket drawings\, DJ\, great snacks and plenty of fun!
LOCATION:Asplundh Cancer Pavilion - 3941 Commerce Ave\, Willow Grove\, PA 19090
UID:e.2385.12039
SEQUENCE:3
DTSTAMP:20260420T083358Z
URL:https://business.chambergmc.org/events/details/race-to-reimagine-5k-run-1-mile-walk-12039
END:VEVENT

END:VCALENDAR
