BEGIN:VCALENDAR
VERSION:2.0
PRODID:-//ChamberMaster//Event Calendar 2.0//EN
METHOD:PUBLISH
X-PUBLISHED-TTL:P3D
REFRESH-INTERVAL:P3D
CALSCALE:GREGORIAN
BEGIN:VEVENT
DTSTART:20181204T140000Z
DTEND:20181204T160000Z
X-MICROSOFT-CDO-ALLDAYEVENT:FALSE
SUMMARY:Ready\, Set\, Retain!
DESCRIPTION:Ready! Set! Retain!\n\n \n\nA workshop for employers to help you hire and keep great employees\n\n \n\nCome hear from representatives of Montgomery County and the Keystone Opportunity Center for innovative approaches on recruitment\, retention\, incumbent work training and customized job training to assist you in building a pipeline of skilled workers for your business.   \n\n \n\nTopics will include:\n\n CareerLink services that are available to help you\n\n \n\n MontcoWork's Partnerships that can assist you in overcoming  employee barriers\n\n \n\nOverview of MontcoWorks and Workforce Development Efforts\n\n \n\n How Title II provides a support system for employers\n\n \n\n The Welcome Aboard Roadshow   How it is helping students and community members in Lansdale and Souderton\n\n \n\n Transportation Options and Programs Available for employees and employers\n\n \n\nA light breakfast will be served\n\n Sponsorships available go to http://www.ptma-mc.org/blog-events/events/    to see options and contact marketing@ptma-mc.org to sign up for this awesome advertising opportunity!\n\n \n\nFor more information contact marketing@ptma-mc.org To register go to www.ptma-mc.org or call 215-997-9100
X-ALT-DESC;FMTTYPE=text/html:<strong><span style="font-size:14px">Ready! Set! Retain!</span></strong><br />\n&nbsp\;<br />\n<strong>A workshop for employers to help you hire and keep great employees</strong><br />\n&nbsp\;<br />\nCome hear from representatives of Montgomery County and the Keystone Opportunity Center for innovative approaches on recruitment\, retention\, incumbent work training and customized job training to assist you in building a pipeline of skilled workers for your business.&nbsp\;&nbsp\;&nbsp\;<br />\n&nbsp\;<br />\nTopics will include:<br />\n&nbsp\;CareerLink services that are available to help you<br />\n&nbsp\;<br />\n&nbsp\;MontcoWork&rsquo\;s Partnerships that can assist you in overcoming&nbsp\; employee barriers<br />\n&nbsp\;<br />\nOverview of MontcoWorks and Workforce Development Efforts<br />\n&nbsp\;<br />\n&nbsp\;How Title II provides a support system for employers<br />\n&nbsp\;<br />\n&nbsp\;The Welcome Aboard Roadshow &ndash\; How it is helping students and community members in Lansdale and Souderton<br />\n&nbsp\;<br />\n&nbsp\;Transportation Options and Programs Available for employees and employers<br />\n&nbsp\;<br />\nA light breakfast will be served<br />\n<strong>&nbsp\;Sponsorships available go to&nbsp\;http://www.ptma-mc.org/blog-events/events/ &nbsp\;&nbsp\; to see options and contact marketing@ptma-mc.org to sign up for this awesome advertising opportunity!</strong><br />\n&nbsp\;<br />\nFor more information contact marketing@ptma-mc.org To register go to www.ptma-mc.org or call 215-997-9100
LOCATION:Montgomery Township Recreation & Community Building 1030 Horsham Rd. Montgomeryville\, PA 18936
UID:e.2385.8072
SEQUENCE:3
DTSTAMP:20260422T040752Z
URL:https://business.chambergmc.org/events/details/ready-set-retail-8072
END:VEVENT

END:VCALENDAR
