BEGIN:VCALENDAR
VERSION:2.0
PRODID:-//ChamberMaster//Event Calendar 2.0//EN
METHOD:PUBLISH
X-PUBLISHED-TTL:P3D
REFRESH-INTERVAL:P3D
CALSCALE:GREGORIAN
BEGIN:VEVENT
DTSTART:20171220T140000Z
DTEND:20171221T003000Z
X-MICROSOFT-CDO-ALLDAYEVENT:FALSE
SUMMARY:Recharge and Restore
DESCRIPTION:We can't run anywhere on empty.  It's much more productive to stop for a mid-week reboot.  Get grounded.  Gain some clarity.  Leave refreshed. \n\nWhat's your pleasure?\n\n          Quiet Time (9:00-10:00 am   Free/Donation)\n\n          Restorative Yoga & Meditation (10:30-11:30 am)\n\n          Lunch-time Pranayama (breath-work meditation) (12-12:30 pm)\n\n          Strengths & Values Coaching Boost   30 minutes for $30\n\n         (Appointments available at 1:30\, 2:15\, 3:30\, & 4:15)\n\n          C.A.L.M Guided Imagery Meditation (5:15-6:15 pm)\n\n          Restorative Yoga & Meditation (6:30-7:30 pm)\n\n \n\nWant more information?  Visit our website http://www.whynotsprout.com or give us a call 610.222.0700
X-ALT-DESC;FMTTYPE=text/html:<p><span style="color:rgb(0\, 128\, 0)"><span style="font-size:18px"><span style="font-family:comic sans ms\,cursive"><strong>We can&rsquo\;t run anywhere on empty.&nbsp\; It&#39\;s much more productive to stop for a&nbsp\;</strong><strong>mid-week reboot.&nbsp\; Get grounded.&nbsp\; Gain some clarity.&nbsp\; Leave refreshed.&nbsp\;</strong></span></span></span></p>\n\n<p><span style="font-family:comic sans ms"><strong>What&rsquo\;s your pleasure?</strong></span></p>\n\n<p><span style="font-family:comic sans ms">&nbsp\;&bull\;&nbsp\;&nbsp\;&nbsp\;&nbsp\;&nbsp\;&nbsp\;&nbsp\; Quiet Time (9:00-10:00 am &ndash\; Free/Donation)</span></p>\n\n<p><span style="font-family:comic sans ms">&nbsp\;&bull\;&nbsp\;&nbsp\;&nbsp\;&nbsp\;&nbsp\;&nbsp\;&nbsp\; Restorative Yoga &amp\; Meditation (10:30-11:30 am)</span></p>\n\n<p><span style="font-family:comic sans ms">&nbsp\;&bull\;&nbsp\;&nbsp\;&nbsp\;&nbsp\;&nbsp\;&nbsp\;&nbsp\; Lunch-time Pranayama (breath-work meditation) (12-12:30 pm)</span></p>\n\n<p><span style="font-family:comic sans ms">&nbsp\;&bull\;&nbsp\;&nbsp\;&nbsp\;&nbsp\;&nbsp\;&nbsp\;&nbsp\; Strengths &amp\; Values Coaching Boost &ndash\; 30 minutes for $30</span></p>\n\n<p><span style="font-family:comic sans ms">&bull\;&nbsp\;&nbsp\;&nbsp\;&nbsp\;&nbsp\;&nbsp\;&nbsp\; (Appointments available at 1:30\, 2:15\, 3:30\, &amp\; 4:15)</span></p>\n\n<p><span style="font-family:comic sans ms">&nbsp\;&bull\;&nbsp\;&nbsp\;&nbsp\;&nbsp\;&nbsp\;&nbsp\;&nbsp\; C.A.L.M Guided Imagery Meditation (5:15-6:15 pm)</span></p>\n\n<p><span style="font-family:comic sans ms">&nbsp\;&bull\;&nbsp\;&nbsp\;&nbsp\;&nbsp\;&nbsp\;&nbsp\;&nbsp\; Restorative Yoga &amp\; Meditation (6:30-7:30 pm)</span></p>\n\n<p>&nbsp\;</p>\n\n<p><span style="font-family:comic sans ms">Want more information?&nbsp\; Visit our website&nbsp\;<a href="http://www.whynotsprout.com/" style="box-sizing: border-box\; transition: 0.3s\; text-decoration-line: none\; background-color: transparent\; color: rgb(51\, 122\, 183)\; outline: 0px !important\;">http://www.whynotsprout.com</a>&nbsp\;or give us a call 610.222.0700</span></p>\n
LOCATION:Why Not Sprout?! 4039 Skippack Pike Skippack\, PA 19474
UID:e.2385.2867
SEQUENCE:3
DTSTAMP:20260421T122629Z
URL:https://business.chambergmc.org/events/details/recharge-and-restore-12-20-2017-2867
END:VEVENT

END:VCALENDAR
