BEGIN:VCALENDAR
VERSION:2.0
PRODID:-//ChamberMaster//Event Calendar 2.0//EN
METHOD:PUBLISH
X-PUBLISHED-TTL:P3D
REFRESH-INTERVAL:P3D
CALSCALE:GREGORIAN
BEGIN:VEVENT
DTSTART:20190327T180000Z
DTEND:20190327T230000Z
X-MICROSOFT-CDO-ALLDAYEVENT:FALSE
SUMMARY:Red Cross Blood Drive
DESCRIPTION:On Wednesday March 27th from 2 p.m. to 7 p.m.\, MSDFCU members and employees will roll up our sleeves and help save lives! We will proudly partner with the American Red Cross to hold a blood drive. We're thrilled to embody the Credit Union's philosophy of "People Helping People" and to bring our employees\, members\, and those in our community together for this event. It's not every day that we do something that has such a profound impact. Thank you for making Merck Sharp & Dohme Federal Credit Union what it is.
X-ALT-DESC;FMTTYPE=text/html:On Wednesday March 27th from 2 p.m. to 7 p.m.\, MSDFCU members and employees will roll up our sleeves and help save lives! We will proudly partner with the American Red Cross to hold a blood drive. We&#39\;re thrilled to embody the Credit Union&rsquo\;s philosophy of &quot\;People Helping People&quot\; and to bring our employees\, members\, and those in our community together for this event. It&rsquo\;s not every day that we do something that has such a profound impact. Thank you for making Merck Sharp &amp\; Dohme Federal Credit Union what it is.
LOCATION:335 West Butler Ave. Chalfont Pa 18914
UID:e.2385.8652
SEQUENCE:3
DTSTAMP:20260422T094508Z
URL:https://business.chambergmc.org/events/details/red-cross-blood-drive-8652
END:VEVENT

END:VCALENDAR
