BEGIN:VCALENDAR
VERSION:2.0
PRODID:-//ChamberMaster//Event Calendar 2.0//EN
METHOD:PUBLISH
X-PUBLISHED-TTL:P3D
REFRESH-INTERVAL:P3D
CALSCALE:GREGORIAN
BEGIN:VEVENT
DTSTART:20180228T190000Z
DTEND:20180301T000000Z
X-MICROSOFT-CDO-ALLDAYEVENT:FALSE
SUMMARY:Red Cross Blood Drive at Elm Terrace Gardens
DESCRIPTION:Please call 215-361-5675 or visit redcrossblood.org\n\n			and enter sponsor code: Elm Terrace\n\n			to schedule an appointment.
X-ALT-DESC;FMTTYPE=text/html:<table border="0" cellpadding="0" cellspacing="0">\n	<tbody>\n		<tr>\n			<td style="padding:3.75pt 3.75pt 3.75pt 3.75pt\;"><span style="font-family:arial\,sans-serif\;"><span style="font-size:10.0pt\;">Please call 215-361-5675 or visit <a href="http://redcrossblood.org">redcrossblood.org</a><br />\n			and enter sponsor code: Elm Terrace<br />\n			to schedule an appointment. </span></span></td>\n		</tr>\n	</tbody>\n</table>\n
LOCATION:Elm Terrace Gardens 660 North Broad Street Lansdale\, PA 19446
UID:e.2385.653
SEQUENCE:3
DTSTAMP:20260421T162413Z
URL:https://business.chambergmc.org/events/details/red-cross-blood-drive-at-elm-terrace-gardens-02-28-2018-653
END:VEVENT

END:VCALENDAR
