BEGIN:VCALENDAR
VERSION:2.0
PRODID:-//ChamberMaster//Event Calendar 2.0//EN
METHOD:PUBLISH
X-PUBLISHED-TTL:P3D
REFRESH-INTERVAL:P3D
CALSCALE:GREGORIAN
BEGIN:VEVENT
DTSTART:20190130T230000Z
DTEND:20190131T003000Z
X-MICROSOFT-CDO-ALLDAYEVENT:FALSE
SUMMARY:Retirement & Health Care Costs
DESCRIPTION:Did you know that Health Care Costs can be one of your Biggest Retirement Expense? Join us at Wealth Builder Advisor on Wed\, January 30th for an insightful dialog on how to Strategize for Climbing Health Care Costs. Event is FREE! Contact us at 215-646-0160 to reserve your seat.
X-ALT-DESC;FMTTYPE=text/html:Did you know that Health Care Costs can be one of your Biggest Retirement Expense? Join us at Wealth Builder Advisor on Wed\, January 30th for an insightful dialog on how to Strategize for Climbing Health Care Costs. Event is FREE! Contact us at 215-646-0160 to reserve your seat.
LOCATION:805 N. Bethlehem Pike Spring House\, PA 19477
UID:e.2385.8119
SEQUENCE:3
DTSTAMP:20260422T053552Z
URL:https://business.chambergmc.org/events/details/retirement-health-care-costs-8119
END:VEVENT

END:VCALENDAR
