BEGIN:VCALENDAR
VERSION:2.0
PRODID:-//ChamberMaster//Event Calendar 2.0//EN
METHOD:PUBLISH
X-PUBLISHED-TTL:P3D
REFRESH-INTERVAL:P3D
CALSCALE:GREGORIAN
BEGIN:VEVENT
DTSTART:20180929T160000Z
DTEND:20180929T190000Z
X-MICROSOFT-CDO-ALLDAYEVENT:FALSE
SUMMARY:Reuse\, Repurpose\, Restore a Life Fashion Show and Luncheon
DESCRIPTION:This fashion show and luncheon is hosted by Laurel's Loft\, a non-profit thrift shop supporting the programs and services of Laurel House\, Montgomery County's only comprehensive domestic violence organization. All proceeds from this event will go to Laurel House.
X-ALT-DESC;FMTTYPE=text/html:This fashion show and luncheon is hosted by Laurel&#39\;s Loft\, a non-profit thrift shop supporting the programs and services of Laurel House\, Montgomery County&#39\;s only comprehensive domestic violence organization. All proceeds from this event will go to Laurel House.
LOCATION:Pine Crest Country Club\, 101 Country Club Dr\, Lansdale
UID:e.2385.7862
SEQUENCE:3
DTSTAMP:20260422T004015Z
URL:https://business.chambergmc.org/events/details/reuse-repurpose-restore-a-life-fashion-show-and-luncheon-7862
END:VEVENT

END:VCALENDAR
