BEGIN:VCALENDAR
VERSION:2.0
PRODID:-//ChamberMaster//Event Calendar 2.0//EN
METHOD:PUBLISH
X-PUBLISHED-TTL:P3D
REFRESH-INTERVAL:P3D
CALSCALE:GREGORIAN
BEGIN:VEVENT
DTSTART:20180518T120000Z
DTEND:20180518T190000Z
X-MICROSOFT-CDO-ALLDAYEVENT:FALSE
SUMMARY:Richard D. Stephens Memorial Golf Outing
DESCRIPTION:This is Christ Lutheran Church's annual event benefiting The Shepherd's Shelf Food Pantry. Let's take a swing to fight food insecurity in our community together! Again this year\, we are proud to honor the late Pastor Richard D. Stephens. He was a loyal volunteer and strong supporter of the food pantry and was loved by all! We streamlined our registration so golfer and sponsors will use the same form to sign up. You can join us in a few different ways:\n\n\n	GOLF - Round up a foursome\, or a few\, to golf in our tournament that is always fun. We brought back our VIP express registration again this year!\n	SPONSOR - Choose a sponsorship level to direct 100% of your donation to The Shelf and get publicity for your business. Our sponsor opportunities and descriptions are located right below the golfer packages. The Shepherd's Shelf is a qualified 501(c)(3)\, so of course your donations will be tax-deductible.\n	FEED - Bump up your donation by giving to our "Swing" Into Feeding Families Program. Located below the sponsor opportunities are a number of ways to directly feed families!
X-ALT-DESC;FMTTYPE=text/html:<p><span style="font-family:tahoma">This is Christ Lutheran Church&#39\;s annual event benefiting The Shepherd&#39\;s Shelf Food Pantry. Let&#39\;s take a swing to fight food insecurity in our community together!&nbsp\;Again this year\, we are proud to honor the late Pastor Richard D. Stephens. He was a loyal volunteer and strong supporter of the food pantry and was loved by all! We streamlined our registration so golfer and sponsors will use the same form to sign up. You can join us in a few different ways:</span></p>\n\n<ol>\n	<li><span style="font-family:tahoma"><u><strong>GOLF</strong></u>&nbsp\;- Round up a foursome\, or a few\, to golf in our tournament that is always fun. We brought back our VIP express registration again this year!</span></li>\n	<li><span style="font-family:tahoma"><u><strong>SPONSOR</strong></u>&nbsp\;- Choose a sponsorship level to direct 100% of your donation to The Shelf and get publicity for your business. Our sponsor opportunities and descriptions are located right below the golfer packages. The Shepherd&#39\;s Shelf is a qualified 501(c)(3)\, so of course your donations will be tax-deductible.</span></li>\n	<li><span style="font-family:tahoma"><u><strong>FEED</strong></u>&nbsp\;- Bump up your donation by giving to our &quot\;Swing&quot\; Into Feeding Families Program. Located below the sponsor opportunities are a number of ways to directly feed families!</span></li>\n</ol>\n
LOCATION:Lederach Golf Course 900 Clubhouse Dr\, Harleysville\, PA 19438\, USA
UID:e.2385.6645
SEQUENCE:3
DTSTAMP:20260421T190243Z
URL:https://business.chambergmc.org/events/details/richard-d-stephens-memorial-golf-outing-05-18-2018-6645
END:VEVENT

END:VCALENDAR
