BEGIN:VCALENDAR
VERSION:2.0
PRODID:-//ChamberMaster//Event Calendar 2.0//EN
METHOD:PUBLISH
X-PUBLISHED-TTL:P3D
REFRESH-INTERVAL:P3D
CALSCALE:GREGORIAN
BEGIN:VEVENT
DTSTART:20250715T160000Z
DTEND:20250715T210000Z
X-MICROSOFT-CDO-ALLDAYEVENT:FALSE
SUMMARY:RSVP Volunteers 8th Annual Golf Classic
DESCRIPTION:Join RSVP Volunteers for a memorable day of golf on a beautiful course! Your participation supports our critical programs that impact the lives of 10\,000 children\, seniors\, Veterans\, and other vulnerable community members throughout Greater Philadelphia.
X-ALT-DESC;FMTTYPE=text/html:<br />\nJoin RSVP Volunteers for a memorable day of golf on a beautiful course! Your participation supports our critical programs that impact the lives of 10\,000 children\, seniors\, Veterans\, and other vulnerable community members throughout Greater Philadelphia.
LOCATION:Rivercrest Golf Club and Preserve 100 Rivercrest Dr\, Phoenixville\, PA 19460
UID:e.2385.12205
SEQUENCE:3
DTSTAMP:20260420T220740Z
URL:https://business.chambergmc.org/events/details/rsvp-volunteers-8th-annual-golf-classic-12205
END:VEVENT

END:VCALENDAR
