BEGIN:VCALENDAR
VERSION:2.0
PRODID:-//ChamberMaster//Event Calendar 2.0//EN
METHOD:PUBLISH
X-PUBLISHED-TTL:P3D
REFRESH-INTERVAL:P3D
CALSCALE:GREGORIAN
BEGIN:VEVENT
DTSTART:20180131T230000Z
DTEND:20180201T003000Z
X-MICROSOFT-CDO-ALLDAYEVENT:FALSE
SUMMARY:Savvy Social Security Event
DESCRIPTION:Wealth Builder Advisor is hosting a Social Security Event. We will be discussing the latest developments in the Social Security System. Baby Boomers especially will not want to miss this opportunity to have their questions answered on an important topic such as Social Security.
X-ALT-DESC;FMTTYPE=text/html:Wealth Builder Advisor is hosting a Social Security Event. We will be discussing the latest developments in the Social Security System. Baby Boomers especially will not want to miss this opportunity to have their questions answered on an important topic such as Social Security.
LOCATION:Wealth Builder Advisor 805 N. Bethlehem Pike Garden Level Spring House\, PA 19477
UID:e.2385.2990
SEQUENCE:3
DTSTAMP:20260421T132959Z
URL:https://business.chambergmc.org/events/details/savvy-social-security-event-01-31-2018-2990
END:VEVENT

END:VCALENDAR
