BEGIN:VCALENDAR
VERSION:2.0
PRODID:-//ChamberMaster//Event Calendar 2.0//EN
METHOD:PUBLISH
X-PUBLISHED-TTL:P3D
REFRESH-INTERVAL:P3D
CALSCALE:GREGORIAN
BEGIN:VEVENT
DTSTART:20181113T230000Z
DTEND:20181114T003000Z
X-MICROSOFT-CDO-ALLDAYEVENT:FALSE
SUMMARY:Savvy Social Security Event
DESCRIPTION:Social Security is far more complicated than people realize. This informative Event reviews the basics of Social Security and reveals innovative strategies for maximizing your benefits. Join us for a candid discussion on a very important topic. Seating is limited - please contact us to reserve your seat 215-646-0160. The Event is FREE\; please bring a friend! Restaurant Fare will be served!
X-ALT-DESC;FMTTYPE=text/html:Social Security is far more complicated than people realize. This informative Event reviews the basics of Social Security and reveals innovative strategies for maximizing your benefits. Join us for a candid discussion on a very important topic. Seating is limited - please contact us to reserve your seat 215-646-0160. The Event is FREE\; please bring a friend! Restaurant Fare will be served!
LOCATION:805 N. Bethlehem Pike Garden Level Spring House\, PA 19477
UID:e.2385.8068
SEQUENCE:3
DTSTAMP:20260422T025401Z
URL:https://business.chambergmc.org/events/details/savvy-social-security-event-11-13-2018-8068
END:VEVENT

END:VCALENDAR
