BEGIN:VCALENDAR
VERSION:2.0
PRODID:-//ChamberMaster//Event Calendar 2.0//EN
METHOD:PUBLISH
X-PUBLISHED-TTL:P3D
REFRESH-INTERVAL:P3D
CALSCALE:GREGORIAN
BEGIN:VEVENT
DTSTART:20180926T220000Z
DTEND:20180926T233000Z
X-MICROSOFT-CDO-ALLDAYEVENT:FALSE
SUMMARY:Savvy Social Security Event
DESCRIPTION:What Baby Boomers Need to Know to Maximize their Social Security Income!
X-ALT-DESC;FMTTYPE=text/html:What Baby Boomers Need to Know to Maximize their Social Security Income!
LOCATION:Wealth Builder Advisor 805 N. Bethlehem Pike\, Garden Level Spring House\, PA 19477
UID:e.2385.7985
SEQUENCE:3
DTSTAMP:20260422T002646Z
URL:https://business.chambergmc.org/events/details/savvy-social-security-event-7985
END:VEVENT

END:VCALENDAR
