BEGIN:VCALENDAR
VERSION:2.0
PRODID:-//ChamberMaster//Event Calendar 2.0//EN
METHOD:PUBLISH
X-PUBLISHED-TTL:P3D
REFRESH-INTERVAL:P3D
CALSCALE:GREGORIAN
BEGIN:VEVENT
DTSTART:20201016T160000Z
DTEND:20201016T170000Z
X-MICROSOFT-CDO-ALLDAYEVENT:FALSE
SUMMARY:Senator Bob Casey “Climate Change Chat”
DESCRIPTION:Join PennEnvironment and U.S. Senator Bob Casey to discuss climate change in Pennsylvania. We'll talk about the impacts of climate change we're already seeing across the state and what more is to come\, as well as the solutions we've already got at our fingertips to ensure a healthy and livable climate for all Pennsylvanians. We'll also have time for attendees to ask Senator Casey questions about climate action here in Pennsylvania and what's going on with climate policy in Congress.
X-ALT-DESC;FMTTYPE=text/html:Join PennEnvironment and U.S. Senator Bob Casey to discuss climate change in Pennsylvania. We&rsquo\;ll talk about the impacts of climate change we&rsquo\;re already seeing across the state and what more is to come\, as well as the solutions we&rsquo\;ve already got at our fingertips to ensure a healthy and livable climate for all Pennsylvanians. We&rsquo\;ll also have time for attendees to ask Senator Casey questions about climate action here in Pennsylvania and what&rsquo\;s going on with climate policy in Congress.
LOCATION:Zoom
UID:e.2385.10771
SEQUENCE:3
DTSTAMP:20260423T013835Z
URL:https://business.chambergmc.org/events/details/senator-bob-casey-climate-change-chat-10771
END:VEVENT

END:VCALENDAR
