BEGIN:VCALENDAR
VERSION:2.0
PRODID:-//ChamberMaster//Event Calendar 2.0//EN
METHOD:PUBLISH
X-PUBLISHED-TTL:P3D
REFRESH-INTERVAL:P3D
CALSCALE:GREGORIAN
BEGIN:VEVENT
DTSTART:20190411T220000Z
DTEND:20190412T010000Z
X-MICROSOFT-CDO-ALLDAYEVENT:FALSE
SUMMARY:Sip & Savor
DESCRIPTION:Join Garden of Health for their Annual Sip & Savor Tasting Event on April 11 from 6-9 pm at Raymour and Flanigan Montgomeryville. Come and sample local food and drinks. Tickets are $25 ahead of time or $30 at the door. You can purchase your tickets here\, www.sipandsavor2019.eventbrite.com.
X-ALT-DESC;FMTTYPE=text/html:<font face="helvetica neue\, helvetica\, arial\, sans-serif">Join Garden of Health for their Annual Sip &amp\; Savor Tasting Event on April 11 from 6-9 pm at Raymour and Flanigan Montgomeryville. Come&nbsp\;and sample local food and drinks. Tickets are $25 ahead of time or $30 at the door. You can purchase your tickets here\, www.sipandsavor2019.eventbrite.com.&nbsp\;</font>
LOCATION:Raymour & Flanigan Montgomeryville
UID:e.2385.8654
SEQUENCE:3
DTSTAMP:20260422T094521Z
URL:https://business.chambergmc.org/events/details/sip-savor-04-11-2019-8654
END:VEVENT

END:VCALENDAR
