BEGIN:VCALENDAR
VERSION:2.0
PRODID:-//ChamberMaster//Event Calendar 2.0//EN
METHOD:PUBLISH
X-PUBLISHED-TTL:P3D
REFRESH-INTERVAL:P3D
CALSCALE:GREGORIAN
BEGIN:VEVENT
DTSTART:20180620T220000Z
DTEND:20180621T010000Z
X-MICROSOFT-CDO-ALLDAYEVENT:FALSE
SUMMARY:Sip & Savor
DESCRIPTION:Sip and Savor samplings from local wineries\, spirits\, breweries and healthy food. All proceeds will go to benefit Garden of Health. We will also have a silent auction. We are raising funds to purchase a van and provide an off-site storage facility for our ever growing food bank.
X-ALT-DESC;FMTTYPE=text/html:<span style="background-color:rgb(255\, 255\, 255)\; font-family:helvetica neue\,helvetica\,arial\,sans-serif\; font-size:13px">Sip and Savor samplings from local wineries\, spirits\, breweries and healthy food. All proceeds will go to benefit Garden of Health. We will also have a silent auction. We are raising funds to purchase a van and provide an off-site&nbsp\;storage facility for our ever growing&nbsp\;food bank.</span>
LOCATION:Volpe Enterprises 217 Church Rd Lansdeal PA 18964
UID:e.2385.6666
SEQUENCE:3
DTSTAMP:20260421T201730Z
URL:https://business.chambergmc.org/events/details/sip-savor-6666
END:VEVENT

END:VCALENDAR
