BEGIN:VCALENDAR
VERSION:2.0
PRODID:-//ChamberMaster//Event Calendar 2.0//EN
METHOD:PUBLISH
X-PUBLISHED-TTL:P3D
REFRESH-INTERVAL:P3D
CALSCALE:GREGORIAN
BEGIN:VEVENT
DTSTART:20191019T140000Z
DTEND:20191019T143000Z
X-MICROSOFT-CDO-ALLDAYEVENT:FALSE
SUMMARY:Skippack Children’s Halloween Parade
DESCRIPTION:Join us for the Annual Skippack Village Children's Halloween Parade!  The parade begins at Trinity Christian UCC in Skippack with complimentary beverages and kid-friendly snacks.  Follow the parade route through the village and enjoy free treats along the way from participating Skippack merchants.  The parade ends at Floral & Hardy with more free candy!! Feel free to stay after the parade to participate in Floral & Hardy's Family Day festivities.  Contact us at 610-584-0797 with your questions. \n\n\nPlease RSVP: \n\nhttps://floralandhardyofskippack.com/events/children-e2-80-99s-halloween-candyland-parade-treat-trail/
X-ALT-DESC;FMTTYPE=text/html:<div style="text-align: justify\;"><span style="background-color:rgb(252\, 249\, 244)\; color:rgb(0\, 0\, 0)\; font-family:arial\,helvetica\,sans-serif">Join us for the Annual Skippack Village Children&rsquo\;s Halloween Parade!&nbsp\; The parade begins at Trinity Christian UCC in Skippack with complimentary beverages and kid-friendly snacks.&nbsp\; Follow the parade route through the village and enjoy free treats along the way from participating Skippack merchants.&nbsp\; T</span><span style="background-color:rgb(252\, 249\, 244)\; color:rgb(0\, 0\, 0)\; font-family:arial\,helvetica\,sans-serif">he parade ends at Floral &amp\; Hardy with more free candy!! Feel free to stay after the parade to participate in Floral &amp\; Hardy&rsquo\;s Family Day festivities.&nbsp\; Contact us at 610-584-0797 with your questions. </span></div>\n<br />\n<span style="background-color:rgb(252\, 249\, 244)\; color:rgb(0\, 0\, 0)\; font-family:arial\,helvetica\,sans-serif">Please RSVP:&nbsp\;<br />\n<a href="https://floralandhardyofskippack.com/events/children-e2-80-99s-halloween-candyland-parade-treat-trail/">https://floralandhardyofskippack.com/events/children-e2-80-99s-halloween-candyland-parade-treat-trail/</a></span>
LOCATION:Skippack Village: Starts at Trinity Christian UCC and ends at Floral & Hardy of Skippack
UID:e.2385.10090
SEQUENCE:3
DTSTAMP:20260423T165807Z
URL:https://business.chambergmc.org/events/details/skippack-children-s-halloween-parade-10090
END:VEVENT

END:VCALENDAR
