BEGIN:VCALENDAR
VERSION:2.0
PRODID:-//ChamberMaster//Event Calendar 2.0//EN
METHOD:PUBLISH
X-PUBLISHED-TTL:P3D
REFRESH-INTERVAL:P3D
CALSCALE:GREGORIAN
BEGIN:VEVENT
DTSTART:20190503T210000Z
DTEND:20190504T010000Z
X-MICROSOFT-CDO-ALLDAYEVENT:FALSE
SUMMARY:Skippack Village 1st Friday's
DESCRIPTION:See you at 1st Friday's in Skippack where you can enjoy live music\, vendors\, eats\, drink\, entertainment and more! - Fun Themes - Family Friendly - 1st Friday of every month from May to Oct Themes -5/3: Cinco De Mayo -6/7: A Taste of Skippack -7/5: Independence Day -8/2: Bluegrass Fest -9/6: Shooting Stars -10/4: Octoberfest
X-ALT-DESC;FMTTYPE=text/html:See you at 1st Friday's in Skippack where you can enjoy live music\, vendors\, eats\, drink\, entertainment and more! - Fun Themes - Family Friendly - 1st Friday of every month from May to Oct Themes -5/3: Cinco De Mayo -6/7: A Taste of Skippack -7/5: Independence Day -8/2: Bluegrass Fest -9/6: Shooting Stars -10/4: Octoberfest
LOCATION:Skippack Village\, Pa
UID:e.2385.8714
SEQUENCE:3
DTSTAMP:20260422T111924Z
URL:https://business.chambergmc.org/events/details/skippack-village-1st-friday-s-8714
END:VEVENT

END:VCALENDAR
