BEGIN:VCALENDAR
VERSION:2.0
PRODID:-//ChamberMaster//Event Calendar 2.0//EN
METHOD:PUBLISH
X-PUBLISHED-TTL:P3D
REFRESH-INTERVAL:P3D
CALSCALE:GREGORIAN
BEGIN:VEVENT
DTSTART:20180228T130000Z
DTEND:20180228T200000Z
X-MICROSOFT-CDO-ALLDAYEVENT:FALSE
SUMMARY:Small Business Marketing Summit
DESCRIPTION:This interactive workshop is designed to give you a day to create a marketing plan that puts you on the path to increased revenue and opportunities. Uncover which success ingredients are missing from your marketing plan. Discover the secrets to managing your time and efforts for profitable digital marketing results. We'll cover how to attract your ideal client\, create your social media plan and learn how to turn prospects into sales.
X-ALT-DESC;FMTTYPE=text/html:This interactive workshop is designed to give you a day to create a marketing plan that puts you on the path to increased revenue and opportunities. Uncover which success ingredients are missing from your marketing plan. Discover the secrets to managing your time and efforts for profitable digital marketing results. We&#39\;ll cover how to attract your ideal client\, create your social media plan and learn how to turn prospects into sales.
LOCATION:King of Prussia
UID:e.2385.2989
SEQUENCE:3
DTSTAMP:20260421T162424Z
URL:https://business.chambergmc.org/events/details/small-business-marketing-summit-02-28-2018-2989
END:VEVENT

END:VCALENDAR
