BEGIN:VCALENDAR
VERSION:2.0
PRODID:-//ChamberMaster//Event Calendar 2.0//EN
METHOD:PUBLISH
X-PUBLISHED-TTL:P3D
REFRESH-INTERVAL:P3D
CALSCALE:GREGORIAN
BEGIN:VEVENT
DTSTART:20180131T220000Z
DTEND:20180201T010000Z
X-MICROSOFT-CDO-ALLDAYEVENT:FALSE
SUMMARY:Smile Exchange of Hatfield One Year Anniversary
DESCRIPTION:Smile Exchange of Hatfield is turning one! Please join us to help us celebrate our first year being open in Hatfield. There will be food\, fun\, raffles\, and entertainment for all!
X-ALT-DESC;FMTTYPE=text/html:Smile Exchange of Hatfield is turning one! Please join us to help us celebrate our first year being open in Hatfield. There will be food\, fun\, raffles\, and entertainment for all!
LOCATION:Smile Exchange of Hatfield 1565 Bethlehem Pike Hatfield\, PA 19440
UID:e.2385.3026
SEQUENCE:3
DTSTAMP:20260421T134034Z
URL:https://business.chambergmc.org/events/details/smile-exchange-of-hatfield-one-year-anniversary-01-31-2018-3026
END:VEVENT

END:VCALENDAR
