BEGIN:VCALENDAR
VERSION:2.0
PRODID:-//ChamberMaster//Event Calendar 2.0//EN
METHOD:PUBLISH
X-PUBLISHED-TTL:P3D
REFRESH-INTERVAL:P3D
CALSCALE:GREGORIAN
BEGIN:VEVENT
DTSTART:20160309T230000Z
DTEND:20160310T010000Z
X-MICROSOFT-CDO-ALLDAYEVENT:FALSE
SUMMARY:So You Think You Can Cook
DESCRIPTION:Souderton Telford Main Streets invites you to attend and be the judge of our 1st annual cooking contest where community and business leaders will be competing for the coveted Golden Spork Award. Attendees get 3 voting tickets to vote for their favorite chef. Network\, eat and be merry! We are still seeking chefs to compete.
X-ALT-DESC;FMTTYPE=text/html:Souderton Telford Main Streets invites you to attend and be the judge of our 1st annual cooking contest where community and business leaders will be competing for the coveted Golden Spork Award. Attendees get 3 voting tickets to vote for their favorite chef. Network\, eat and be merry! We are still seeking chefs to compete.
LOCATION:Generations of Indian Valley 259 N 2nd St Souderton\, PA 18964
UID:e.2385.1513
SEQUENCE:3
DTSTAMP:20260421T112020Z
URL:https://business.chambergmc.org/events/details/so-you-think-you-can-cook-03-09-2016-1513
END:VEVENT

END:VCALENDAR
