BEGIN:VCALENDAR
VERSION:2.0
PRODID:-//ChamberMaster//Event Calendar 2.0//EN
METHOD:PUBLISH
X-PUBLISHED-TTL:P3D
REFRESH-INTERVAL:P3D
CALSCALE:GREGORIAN
BEGIN:VEVENT
DTSTART:20190313T223000Z
DTEND:20190314T000000Z
X-MICROSOFT-CDO-ALLDAYEVENT:FALSE
SUMMARY:So You Want To Start A Business?
DESCRIPTION:Professional Leadership Advice Network will be hosting a seminar at H3 Business Center in Harleysville\, PA.  The Center is located at 298 Main Street in the Henning's Market Plaza and is to the right of Henning's at the double doors.  The cost is $10 and presenters will be April Donahue\; Steve Douglass\; Vernessa Hopkins\; and Tom Sloan.  They will be talking about starting a business or franchise\; financing the costs\; keeping healthcare costs down to help you get started with your businesss\; and marketing that business so that people will know that you are out there.
X-ALT-DESC;FMTTYPE=text/html:Professional Leadership Advice Network will be hosting a seminar at H3 Business Center in Harleysville\, PA.&nbsp\; The Center is located at 298 Main Street in the Henning&#39\;s Market Plaza and is to the right of Henning&#39\;s at the double doors.&nbsp\; The cost is $10 and presenters will be April Donahue\; Steve Douglass\; Vernessa Hopkins\; and Tom Sloan.&nbsp\; They will be talking about starting a business or franchise\; financing the costs\; keeping healthcare costs down to help you get started with your businesss\; and marketing that business so that people will know that you are out there.
LOCATION:H3 Business Center Henning's Mart Plaza 298 Main Street (Double doors to the right of Henning's) Harleysville\, PA 19438 267-664-5311
UID:e.2385.8645
SEQUENCE:3
DTSTAMP:20260422T083015Z
URL:https://business.chambergmc.org/events/details/so-you-want-to-start-a-business-8645
END:VEVENT

END:VCALENDAR
