BEGIN:VCALENDAR
VERSION:2.0
PRODID:-//ChamberMaster//Event Calendar 2.0//EN
METHOD:PUBLISH
X-PUBLISHED-TTL:P3D
REFRESH-INTERVAL:P3D
CALSCALE:GREGORIAN
BEGIN:VEVENT
DTSTART:20180520T150000Z
DTEND:20180520T180000Z
X-MICROSOFT-CDO-ALLDAYEVENT:FALSE
SUMMARY:Social After Mass
DESCRIPTION:St. Mary Villa would like to invite the community to enjoy the beautiful and historic Saints Nereus & Achilleus Chapel and join us for a Social after Mass. The community social will be held in the Personal Care Community room following 11AM Mass. Refreshments will be provided as well as a chance for a free raffle!
X-ALT-DESC;FMTTYPE=text/html:St. Mary Villa would like to invite the community to enjoy the beautiful and historic Saints Nereus &amp\; Achilleus Chapel and join us for a Social after Mass. The community social will be held in the Personal Care Community room following 11AM Mass. Refreshments will be provided as well as a chance for a free raffle!
LOCATION:St. Mary's Villa\, 701 Lansdale Ave\, Lansdale PA 19446
UID:e.2385.6641
SEQUENCE:3
DTSTAMP:20260421T201853Z
URL:https://business.chambergmc.org/events/details/social-after-mass-05-20-2018-6641
END:VEVENT

END:VCALENDAR
