BEGIN:VCALENDAR
VERSION:2.0
PRODID:-//ChamberMaster//Event Calendar 2.0//EN
METHOD:PUBLISH
X-PUBLISHED-TTL:P3D
REFRESH-INTERVAL:P3D
CALSCALE:GREGORIAN
BEGIN:VEVENT
DTSTART:20191012T130000Z
DTEND:20191012T150000Z
X-MICROSOFT-CDO-ALLDAYEVENT:FALSE
SUMMARY:Sole Harvest 5K and 1 Mile Walk
DESCRIPTION:The Sole Harvest 5K is a fun\, healthy and kid friendly event. This 5k will benefit the Norristown Hospitality Center\, who serves Montgomery County providing food\, shelter and empowering residents and their families facing difficult situations. More information about the Hospitality Center can be found at hospitalitycenter.org Sponsorships are available. See soleharvest5k.com or contact soleharvest5k@gmail.com for more information.
X-ALT-DESC;FMTTYPE=text/html:The Sole Harvest 5K is a fun\, healthy and kid friendly event. This 5k will benefit the Norristown Hospitality Center\, who serves Montgomery County providing food\, shelter and empowering residents and their families facing difficult situations. More information about the Hospitality Center can be found at hospitalitycenter.org Sponsorships are available. See soleharvest5k.com or contact soleharvest5k@gmail.com for more information.
LOCATION:Norristown Farm Park 401 North Whitehall Road\, Norristown\, PA 19401
UID:e.2385.10056
SEQUENCE:3
DTSTAMP:20260423T165840Z
URL:https://business.chambergmc.org/events/details/sole-harvest-5k-and-1-mile-walk-10056
END:VEVENT

END:VCALENDAR
