BEGIN:VCALENDAR
VERSION:2.0
PRODID:-//ChamberMaster//Event Calendar 2.0//EN
METHOD:PUBLISH
X-PUBLISHED-TTL:P3D
REFRESH-INTERVAL:P3D
CALSCALE:GREGORIAN
BEGIN:VEVENT
DTSTART:20170914T220000Z
DTEND:20170915T000000Z
X-MICROSOFT-CDO-ALLDAYEVENT:FALSE
SUMMARY:South Jersey Energy Happy Hour with SportsRadio 94WIP host Glen Macnow
DESCRIPTION:South Jersey Energy is hosting a Happy Hour with SportsRadio 94WIP host Glen Macnow. RSVP to emcafee@sjindustries.com by 9/5. We are going to be raffling off a Conshohocken Brewing Company Gift Basket and all guests will receive an SJE koozie!
X-ALT-DESC;FMTTYPE=text/html:South Jersey Energy is hosting a Happy Hour with SportsRadio 94WIP host Glen Macnow. RSVP to emcafee@sjindustries.com by 9/5. We are going to be raffling off a Conshohocken Brewing Company Gift Basket and all guests will receive an SJE koozie!
LOCATION:Conshohocken Brewing Company 739 E. Elm Street Conshohocken\, PA 19428
UID:e.2385.2596
SEQUENCE:3
DTSTAMP:20260421T084718Z
URL:https://business.chambergmc.org/events/details/south-jersey-energy-happy-hour-with-sportsradio-94wip-host-glen-macnow-09-14-2017-2596
END:VEVENT

END:VCALENDAR
